BEGIN:VCALENDAR
VERSION:2.0
PRODID:-//River Oaks Breakfast Club - ECPv6.15.20//NONSGML v1.0//EN
CALSCALE:GREGORIAN
METHOD:PUBLISH
X-WR-CALNAME:River Oaks Breakfast Club
X-ORIGINAL-URL:https://www.robc.com
X-WR-CALDESC:Events for River Oaks Breakfast Club
REFRESH-INTERVAL;VALUE=DURATION:PT1H
X-Robots-Tag:noindex
X-PUBLISHED-TTL:PT1H
BEGIN:VTIMEZONE
TZID:America/Chicago
BEGIN:DAYLIGHT
TZOFFSETFROM:-0600
TZOFFSETTO:-0500
TZNAME:CDT
DTSTART:20250309T080000
END:DAYLIGHT
BEGIN:STANDARD
TZOFFSETFROM:-0500
TZOFFSETTO:-0600
TZNAME:CST
DTSTART:20251102T070000
END:STANDARD
BEGIN:DAYLIGHT
TZOFFSETFROM:-0600
TZOFFSETTO:-0500
TZNAME:CDT
DTSTART:20260308T080000
END:DAYLIGHT
BEGIN:STANDARD
TZOFFSETFROM:-0500
TZOFFSETTO:-0600
TZNAME:CST
DTSTART:20261101T070000
END:STANDARD
BEGIN:DAYLIGHT
TZOFFSETFROM:-0600
TZOFFSETTO:-0500
TZNAME:CDT
DTSTART:20270314T080000
END:DAYLIGHT
BEGIN:STANDARD
TZOFFSETFROM:-0500
TZOFFSETTO:-0600
TZNAME:CST
DTSTART:20271107T070000
END:STANDARD
END:VTIMEZONE
BEGIN:VEVENT
DTSTART;TZID=America/Chicago:20260424T073000
DTEND;TZID=America/Chicago:20260424T090000
DTSTAMP:20260423T051340
CREATED:20251112T225648Z
LAST-MODIFIED:20260407T140947Z
UID:4062-1777015800-1777021200@www.robc.com
SUMMARY:Fri\, 4/24/26 7:30 Main Dining Room - Speaker: Scott Richardson\, Global Head of Energy Investment Banking for RBC
DESCRIPTION:Click here to ADD Your Guest’s Name\n  \nOur Speaker for Friday\, April 24th is Scott Richardson\, Global Head of Energy Investment Banking for RBC.
URL:https://www.robc.com/event/fri-4-24-26-730-main-dining-room/
CATEGORIES:Regular Breakfast Meeting
END:VEVENT
BEGIN:VEVENT
DTSTART;TZID=America/Chicago:20260515T073000
DTEND;TZID=America/Chicago:20260515T090000
DTSTAMP:20260423T051340
CREATED:20251112T225753Z
LAST-MODIFIED:20260422T135355Z
UID:4063-1778830200-1778835600@www.robc.com
SUMMARY:Fri\, 5/15/26 7:30  Main Dining Room - Speaker: Yoram Ettinger\, former Israeli Consul to the US Southwest
DESCRIPTION:Click here to ADD Your Guest’s Name\n  \nYoram Ettinger\, former Israeli Consul to the US Southwest\nSpeaker Bio
URL:https://www.robc.com/event/fri-5-15-26-730-main-dining-room/
CATEGORIES:Regular Breakfast Meeting
END:VEVENT
BEGIN:VEVENT
DTSTART;TZID=America/Chicago:20260529T073000
DTEND;TZID=America/Chicago:20260529T090000
DTSTAMP:20260423T051340
CREATED:20251112T225828Z
LAST-MODIFIED:20260407T142244Z
UID:4064-1780039800-1780045200@www.robc.com
SUMMARY:Fri\, 5/29/26 7:30 Main Dining Room
DESCRIPTION:Click here to ADD Your Guest’s Name
URL:https://www.robc.com/event/fri-5-29-26-730-main-dining-room/
CATEGORIES:Regular Breakfast Meeting
END:VEVENT
BEGIN:VEVENT
DTSTART;TZID=America/Chicago:20260611T073000
DTEND;TZID=America/Chicago:20260611T090000
DTSTAMP:20260423T051340
CREATED:20251112T225917Z
LAST-MODIFIED:20260407T142337Z
UID:4065-1781163000-1781168400@www.robc.com
SUMMARY:Thu\, 6/11/26 7:30 Main Dining Room
DESCRIPTION:Click here to ADD Your Guest’s Name
URL:https://www.robc.com/event/thu-6-11-26-730-main-dining-room/
CATEGORIES:Regular Breakfast Meeting
END:VEVENT
BEGIN:VEVENT
DTSTART;TZID=America/Chicago:20260625T073000
DTEND;TZID=America/Chicago:20260625T090000
DTSTAMP:20260423T051340
CREATED:20251112T225949Z
LAST-MODIFIED:20260407T142420Z
UID:4066-1782372600-1782378000@www.robc.com
SUMMARY:Thu\, 6/25/26 7:30 Main Dining Room
DESCRIPTION:Click here to ADD Your Guest’s Name
URL:https://www.robc.com/event/thu-6-25-26-730-main-dining-room/
CATEGORIES:Regular Breakfast Meeting
END:VEVENT
BEGIN:VEVENT
DTSTART;TZID=America/Chicago:20260709T073000
DTEND;TZID=America/Chicago:20260709T090000
DTSTAMP:20260423T051340
CREATED:20251112T230025Z
LAST-MODIFIED:20260407T142645Z
UID:4067-1783582200-1783587600@www.robc.com
SUMMARY:Thu\, 7/09/26 7:30 Main Dining Room
DESCRIPTION:Click here to ADD Your Guest’s Name
URL:https://www.robc.com/event/thu-7-09-26-730-main-dining-room/
CATEGORIES:Regular Breakfast Meeting
END:VEVENT
BEGIN:VEVENT
DTSTART;TZID=America/Chicago:20260722T073000
DTEND;TZID=America/Chicago:20260722T090000
DTSTAMP:20260423T051340
CREATED:20251112T230110Z
LAST-MODIFIED:20260407T142741Z
UID:4068-1784705400-1784710800@www.robc.com
SUMMARY:Wed\, 7/22/26 7:30 Main Dining Room
DESCRIPTION:Click here to ADD Your Guest’s Name
URL:https://www.robc.com/event/wed-7-22-26-730-main-dining-room/
CATEGORIES:Regular Breakfast Meeting
END:VEVENT
BEGIN:VEVENT
DTSTART;TZID=America/Chicago:20260813T073000
DTEND;TZID=America/Chicago:20260813T090000
DTSTAMP:20260423T051340
CREATED:20251112T230140Z
LAST-MODIFIED:20260407T142943Z
UID:4069-1786606200-1786611600@www.robc.com
SUMMARY:Thu\, 8/13/26 7:30 Main Dining Room
DESCRIPTION:Click here to ADD Your Guest’s Name
URL:https://www.robc.com/event/thu-8-13-26-730-main-dining-room/
CATEGORIES:Regular Breakfast Meeting
END:VEVENT
BEGIN:VEVENT
DTSTART;TZID=America/Chicago:20260828T070000
DTEND;TZID=America/Chicago:20260828T090000
DTSTAMP:20260423T051340
CREATED:20251112T230229Z
LAST-MODIFIED:20260407T143012Z
UID:4070-1787900400-1787907600@www.robc.com
SUMMARY:Fri\, 8/28/26 7:00 Main Dining Room
DESCRIPTION:Click here to ADD Your Guest’s Name
URL:https://www.robc.com/event/fri-8-28-26-700-main-dining-room/
CATEGORIES:Regular Breakfast Meeting
END:VEVENT
BEGIN:VEVENT
DTSTART;TZID=America/Chicago:20260910T073000
DTEND;TZID=America/Chicago:20260910T090000
DTSTAMP:20260423T051340
CREATED:20251112T230303Z
LAST-MODIFIED:20260407T143035Z
UID:4071-1789025400-1789030800@www.robc.com
SUMMARY:Thu\, 9/10/26 7:30 Main Dining Room
DESCRIPTION:Click here to ADD Your Guest’s Name
URL:https://www.robc.com/event/thu-9-10-26-730-main-dining-room/
CATEGORIES:Regular Breakfast Meeting
END:VEVENT
BEGIN:VEVENT
DTSTART;TZID=America/Chicago:20260925T073000
DTEND;TZID=America/Chicago:20260925T090000
DTSTAMP:20260423T051340
CREATED:20251112T230340Z
LAST-MODIFIED:20260407T143101Z
UID:4072-1790321400-1790326800@www.robc.com
SUMMARY:Fri\, 9/25/26 7:30 Main Dining Room
DESCRIPTION:Click here to ADD Your Guest’s Name
URL:https://www.robc.com/event/fri-9-25-26-730-main-dining-room/
CATEGORIES:Regular Breakfast Meeting
END:VEVENT
BEGIN:VEVENT
DTSTART;TZID=America/Chicago:20261008T073000
DTEND;TZID=America/Chicago:20261008T090000
DTSTAMP:20260423T051340
CREATED:20251112T230419Z
LAST-MODIFIED:20260407T143131Z
UID:4073-1791444600-1791450000@www.robc.com
SUMMARY:Thu\, 10/08/26 7:30 Main Dining Room
DESCRIPTION:Click here to ADD Your Guest’s Name
URL:https://www.robc.com/event/thu-10-08-26-730-main-dining-room/
CATEGORIES:Regular Breakfast Meeting
END:VEVENT
BEGIN:VEVENT
DTSTART;TZID=America/Chicago:20261022T073000
DTEND;TZID=America/Chicago:20261022T090000
DTSTAMP:20260423T051340
CREATED:20251112T230451Z
LAST-MODIFIED:20260407T143152Z
UID:4074-1792654200-1792659600@www.robc.com
SUMMARY:Thu\, 10/22/26 7:30 Main Dining Room
DESCRIPTION:Click here to ADD Your Guest’s Name
URL:https://www.robc.com/event/thu-10-22-26-730-main-dining-room/
CATEGORIES:Regular Breakfast Meeting
END:VEVENT
BEGIN:VEVENT
DTSTART;TZID=America/Chicago:20261113T073000
DTEND;TZID=America/Chicago:20261113T090000
DTSTAMP:20260423T051340
CREATED:20251112T230605Z
LAST-MODIFIED:20260407T143313Z
UID:4075-1794555000-1794560400@www.robc.com
SUMMARY:Fri\, 11/13/26 7:30 Main Dining Room
DESCRIPTION:Click here to ADD Your Guest’s Name\n 
URL:https://www.robc.com/event/fri-11-13-26-730-main-dining-room/
CATEGORIES:Regular Breakfast Meeting
END:VEVENT
BEGIN:VEVENT
DTSTART;TZID=America/Chicago:20261211T073000
DTEND;TZID=America/Chicago:20261211T090000
DTSTAMP:20260423T051340
CREATED:20251112T230641Z
LAST-MODIFIED:20260407T143425Z
UID:4076-1796974200-1796979600@www.robc.com
SUMMARY:Fri\, 12/11/26 7:30 Main Dining Room
DESCRIPTION:Click here to ADD Your Guest’s Name
URL:https://www.robc.com/event/fri-12-11-26-730-main-dining-room/
CATEGORIES:Regular Breakfast Meeting
END:VEVENT
BEGIN:VEVENT
DTSTART;VALUE=DATE:20261231
DTEND;VALUE=DATE:20270101
DTSTAMP:20260423T051340
CREATED:20260119T221907Z
LAST-MODIFIED:20260119T222136Z
UID:4213-1798675200-1798761599@www.robc.com
SUMMARY:Announcements 2026
DESCRIPTION:*not live event; used for website messaging via Promoter
URL:https://www.robc.com/event/announcements-2026/
END:VEVENT
END:VCALENDAR